BEGIN:VCALENDAR
VERSION:2.0
PRODID:-//Schönau Klassik e. V. - ECPv6.15.20//NONSGML v1.0//EN
CALSCALE:GREGORIAN
METHOD:PUBLISH
X-ORIGINAL-URL:https://schoenau-klassik.de
X-WR-CALDESC:Veranstaltungen für Schönau Klassik e. V.
REFRESH-INTERVAL;VALUE=DURATION:PT1H
X-Robots-Tag:noindex
X-PUBLISHED-TTL:PT1H
BEGIN:VTIMEZONE
TZID:Europe/Helsinki
BEGIN:DAYLIGHT
TZOFFSETFROM:+0200
TZOFFSETTO:+0300
TZNAME:EEST
DTSTART:20230326T010000
END:DAYLIGHT
BEGIN:STANDARD
TZOFFSETFROM:+0300
TZOFFSETTO:+0200
TZNAME:EET
DTSTART:20231029T010000
END:STANDARD
BEGIN:DAYLIGHT
TZOFFSETFROM:+0200
TZOFFSETTO:+0300
TZNAME:EEST
DTSTART:20240331T010000
END:DAYLIGHT
BEGIN:STANDARD
TZOFFSETFROM:+0300
TZOFFSETTO:+0200
TZNAME:EET
DTSTART:20241027T010000
END:STANDARD
BEGIN:DAYLIGHT
TZOFFSETFROM:+0200
TZOFFSETTO:+0300
TZNAME:EEST
DTSTART:20250330T010000
END:DAYLIGHT
BEGIN:STANDARD
TZOFFSETFROM:+0300
TZOFFSETTO:+0200
TZNAME:EET
DTSTART:20251026T010000
END:STANDARD
END:VTIMEZONE
BEGIN:VEVENT
DTSTART;TZID=Europe/Helsinki:20240901T160000
DTEND;TZID=Europe/Helsinki:20240901T170000
DTSTAMP:20260421T200940
CREATED:20240722T162839Z
LAST-MODIFIED:20240722T162839Z
UID:423-1725206400-1725210000@schoenau-klassik.de
SUMMARY:Kindermitmachkonzert der Kulturroute
DESCRIPTION:Im Rahmen der Kulturroute Laurensberg veranstaltet unser Verein ein Kindermitmachkonzert für Kinder zwischen 2 und 10 Jahren\, zum Singen\, Mitmachen und Begeistern lassen.
URL:https://schoenau-klassik.de/event/kindermitmachkonzert-der-kulturroute/
LOCATION:Laurentiushaus\, Laurentiusstraße 79\, Aachen\, NRW\, 52072\, Deutschland
END:VEVENT
END:VCALENDAR