BEGIN:VCALENDAR
VERSION:2.0
PRODID:-//Schönau Klassik e. V. - ECPv6.15.20//NONSGML v1.0//EN
CALSCALE:GREGORIAN
METHOD:PUBLISH
X-ORIGINAL-URL:https://schoenau-klassik.de
X-WR-CALDESC:Veranstaltungen für Schönau Klassik e. V.
REFRESH-INTERVAL;VALUE=DURATION:PT1H
X-Robots-Tag:noindex
X-PUBLISHED-TTL:PT1H
BEGIN:VTIMEZONE
TZID:Europe/Helsinki
BEGIN:DAYLIGHT
TZOFFSETFROM:+0200
TZOFFSETTO:+0300
TZNAME:EEST
DTSTART:20230326T010000
END:DAYLIGHT
BEGIN:STANDARD
TZOFFSETFROM:+0300
TZOFFSETTO:+0200
TZNAME:EET
DTSTART:20231029T010000
END:STANDARD
BEGIN:DAYLIGHT
TZOFFSETFROM:+0200
TZOFFSETTO:+0300
TZNAME:EEST
DTSTART:20240331T010000
END:DAYLIGHT
BEGIN:STANDARD
TZOFFSETFROM:+0300
TZOFFSETTO:+0200
TZNAME:EET
DTSTART:20241027T010000
END:STANDARD
BEGIN:DAYLIGHT
TZOFFSETFROM:+0200
TZOFFSETTO:+0300
TZNAME:EEST
DTSTART:20250330T010000
END:DAYLIGHT
BEGIN:STANDARD
TZOFFSETFROM:+0300
TZOFFSETTO:+0200
TZNAME:EET
DTSTART:20251026T010000
END:STANDARD
END:VTIMEZONE
BEGIN:VEVENT
DTSTART;TZID=Europe/Helsinki:20241005T160000
DTEND;TZID=Europe/Helsinki:20241005T173000
DTSTAMP:20260421T183738
CREATED:20240722T163245Z
LAST-MODIFIED:20241003T093311Z
UID:427-1728144000-1728149400@schoenau-klassik.de
SUMMARY:"Junge Talente"
DESCRIPTION:Der Verein Schönau Klassik e.V. bietet jungen Musikerinnen und Musikern aus dem Raum Aachen eine Bühne. Das abwechslungsreiche Konzert findet im Rahmen der Kulturroute Laurensberg statt. \nAUS ORGANISATORISCHEN GRÜNDEN MUSS DAS KONZERT UM EINE STUNDE VORVERLEGT WERDEN.
URL:https://schoenau-klassik.de/event/junge-talente/
LOCATION:Laurentiushaus\, Laurentiusstraße 79\, Aachen\, NRW\, 52072\, Deutschland
ORGANIZER;CN="Sch%C3%B6nau Klassik e. V.":MAILTO:info@schoenau-klassik.de
END:VEVENT
END:VCALENDAR